BEGIN:VCALENDAR
VERSION:2.0
METHOD:PUBLISH
PRODID:-//Accessible Web Design//My Calendar//http://www.joedolson.com//v3.4.15//EN';
BEGIN:VEVENT
UID:11391-2445
LOCATION:
SUMMARY:Religious School End-of-the-Year Picnic
DTSTAMP:20260503T120000
ORGANIZER;CN=Valley Temple:MAILTO:fallafel910@gmail.com
DTSTART:20260503T120000
DTEND:20260503T140000
CATEGORIES:General
URL;VALUE=URI:
DESCRIPTION;ENCODING=QUOTED-PRINTABLE:Sisterhood will host a picnic to celebrate the conclusion of the 2025-26 Religious School Year. 
END:VEVENT
END:VCALENDAR