BEGIN:VCALENDAR
VERSION:2.0
METHOD:PUBLISH
PRODID:-//Accessible Web Design//My Calendar//http://www.joedolson.com//v3.4.15//EN';
BEGIN:VEVENT
UID:11383-2437
LOCATION:Valley Temple 145 Springfield Pike  Cincinnati OH 45215
SUMMARY:Torah Study
DTSTAMP:20260425T093000
ORGANIZER;CN=Valley Temple:MAILTO:fallafel910@gmail.com
DTSTART:20260425T093000
DTEND:20260425T103000
CATEGORIES:General
URL;VALUE=URI:
DESCRIPTION;ENCODING=QUOTED-PRINTABLE:Come read and study the weekly Torah portion in English. No prior experience necessary. 
END:VEVENT
END:VCALENDAR