BEGIN:VCALENDAR
VERSION:2.0
METHOD:PUBLISH
PRODID:-//Accessible Web Design//My Calendar//http://www.joedolson.com//v3.4.15//EN';
BEGIN:VEVENT
UID:11348-2432
LOCATION:
SUMMARY:HUC Ordination at Plum Street Temple -- No Torah Study or Shabbat Service at Valley Temple
DTSTAMP:20260509T090000
ORGANIZER;CN=Valley Temple:MAILTO:fallafel910@gmail.com
DTSTART:20260509T090000
DTEND:20260509T120000
CATEGORIES:General
URL;VALUE=URI:
DESCRIPTION;ENCODING=QUOTED-PRINTABLE:Please note that there is no Torah Study or Shabbat Service at Valley Temple on this date.You are invited to join us for services and HUC Ordination at Plum Street Temple. 
END:VEVENT
END:VCALENDAR