BEGIN:VCALENDAR
VERSION:2.0
METHOD:PUBLISH
PRODID:-//Accessible Web Design//My Calendar//http://www.joedolson.com//v3.4.15//EN';
BEGIN:VEVENT
UID:11339-2425
LOCATION:
SUMMARY:Congregational Passover Seder
DTSTAMP:20260402T180000
ORGANIZER;CN=Valley Temple:MAILTO:fallafel910@gmail.com
DTSTART:20260402T180000
DTEND:20260402T210000
CATEGORIES:General
URL;VALUE=URI:
DESCRIPTION;ENCODING=QUOTED-PRINTABLE:This year's Congregational Passover Seder is on THURSDAY, APRIL 2 at 6:00 p.m. at The Valley Temple. We're excited to announce a new pricing structure and a price drop from last year! 	$20/ADULT (18 and over)  	OR... NEW THIS YEAR! Choose FAMILY PRICING $30 (includes 2 adults and children under 18)Three ways to register: 	Click HERE to register 	Call the office at 513-761-3555 	Email kelli@valleytemple.comFIRM DEADLINE OF MARCH 26 TO REGISTER&nbsp;&nbsp;&nbsp;&nbsp;&nbsp; 
END:VEVENT
END:VCALENDAR