BEGIN:VCALENDAR
VERSION:2.0
METHOD:PUBLISH
PRODID:-//Accessible Web Design//My Calendar//http://www.joedolson.com//v3.4.15//EN';
BEGIN:VEVENT
UID:11349-2430
LOCATION:Valley Temple 145 Springfield Pike  Cincinnati OH 45215
SUMMARY:Shabbat Service -- PLEASE NOTE TIME CHANGE
DTSTAMP:20260508T173000
ORGANIZER;CN=Valley Temple:MAILTO:fallafel910@gmail.com
DTSTART:20260508T173000
DTEND:20260508T190000
CATEGORIES:General
URL;VALUE=URI:
DESCRIPTION;ENCODING=QUOTED-PRINTABLE:Please join us for a special pre-Oneg this evening at 5:30 p.m. Shabbat Service will begin at 6:00 p.m.Ordinees of Hebrew Union College - Jewish Institute of Religion will be honored. 
END:VEVENT
END:VCALENDAR